Workbook

Sheet Rekapitulace stavby
A1: Export Komplet | BA1: 2.0 | BB1: ZAMOK | BT1: False | BU1: False | BV1: {7a6d6fbc-4024-4c56-9e90-83f04409657a}
BS2: 0,01 | BT2: 21
BS3: 0,01 | BT3: 15
D4: REKAPITULACE STAVBY | AS4: v --- níže se nacházejí doplnkové a pomocné údaje k sestavám --- v | BE4: Návod na vyplnění | BS4: 0,001
D5: Kód: | K5: 1169b | BE5: Měnit lze pouze buňky se žlutým podbarvením!_x000D_ _x000D_ 1) na prvním listu Rekapitulace stavby vyplňte v sestavě_x000D_ _x000D_ a) Souhrnný list_x000D_ - údaje o Uchazeči_x000D_ (přenesou se do ostatních sestav i v jiných listech)_x000D_ _x000D_ b) Rekapitulace objektů_x000D_ - potřebné Ostatní náklady_x000D_ _x000D_ 2) na vybraných listech vyplňte v sestavě_x000D_ _x000D_ a) Krycí list_x000D_ - údaje o Uchazeči, pokud se liší od údajů o Uchazeči na Souhrnném listu_x000D_ (údaje se přenesou do ostatních sestav v daném listu)_x000D_ _x000D_ b) Rekapitulace rozpočtu_x000D_ - potřebné Ostatní náklady_x000D_ _x000D_ c) Celkové náklady za stavbu_x000D_ - ceny u položek_x000D_ - množství, pokud má žluté podbarvení_x000D_ - a v případě potřeby poznámku (ta je ve skrytém sloupci) | BS5: 0,01
D6: Stavba: | K6: Místní komunikace u zemědělského areálu - Mníšek II.etapa | BS6: 0,01
D7: KSO: | AK7: CC-CZ: | BS7: 0,01
D8: Místo: | K8: Stříbřec, místní část Mníšek | AK8: Datum: | AN8: 2. 1. 2025 | BS8: 0,01
BS9: 0,01
D10: Zadavatel: | AK10: IČ: | BS10: 0,01
E11: Obec Stříbřec | AK11: DIČ: | BS11: 0,01
BS12: 0,01
D13: Uchazeč: | AK13: IČ: | AN13: Vyplň údaj | BS13: 0,01
E14: Vyplň údaj | AK14: DIČ: | AN14: Vyplň údaj | BS14: 0,01
BS15: False
D16: Projektant: | AK16: IČ: | BS16: False
E17: WAY project s.r.o. | AK17: DIČ: | BS17: True
BS18: 0,01
D19: Zpracovatel: | AK19: IČ: | BS19: 0,01
AK20: DIČ: | BS20: False
D22: Poznámka:
D26: Cena bez DPH | AK26: =ROUND(AG94,2) -> 0
L28: Sazba daně | W28: Základ daně | AK28: Výše daně
D29: DPH | F29: základní | L29: 0.21 | W29: =ROUND(AZ94, 2) -> 0 | AK29: =ROUND(AV94, 2) -> 0
F30: snížená | L30: 0.15 | W30: =ROUND(BA94, 2) -> 0 | AK30: =ROUND(AW94, 2) -> 0
F31: zákl. přenesená | L31: 0.21 | W31: =ROUND(BB94, 2) -> 0 | AK31: 0
F32: sníž. přenesená | L32: 0.15 | W32: =ROUND(BC94, 2) -> 0 | AK32: 0
F33: nulová | L33: 0 | W33: =ROUND(BD94, 2) -> 0 | AK33: 0
D35: Cena s DPH | T35: v | X35: CZK | AK35: =SUM(AK26:AK33) -> 0
D49: Projektant | AH49: Zpracovatel
D60: Datum a podpis: | V60: Razítko | AH60: Datum a podpis: | AM60: Razítko
D64: Objednavatel | AH64: Uchazeč
D75: Datum a podpis: | V75: Razítko | AH75: Datum a podpis: | AM75: Razítko
C82: REKAPITULACE OBJEKTŮ STAVBY A SOUPISŮ PRACÍ
C84: Kód: | L84: =K5 -> 1169b
C85: Stavba: | L85: =K6 -> Místní komunikace u zemědělského areálu - Mníšek II.etapa
C87: Místo: | L87: =IF(K8="","",K8) -> Stříbřec, místní část Mníšek | AI87: Datum: | AM87: =IF(AN8= "","",AN8) -> 2. 1. 2025
C89: Zadavatel: | L89: =IF(E11= "","",E11) -> Obec Stříbřec | AI89: Projektant: | AM89: =IF(E17="","",E17) -> WAY project s.r.o. | AS89: Informatívní údaje z listů zakázek
C90: Uchazeč: | L90: =IF(E14= "Vyplň údaj","",E14) | AI90: Zpracovatel: | AM90: =IF(E20="","",E20)
C92: Kód | I92: Popis | AG92: Cena bez DPH [CZK] | AN92: Cena s DPH [CZK] | AQ92: Typ | AS92: z toho Ostat._x000D_ náklady [CZK] | AT92: DPH [CZK] | AU92: Normohodiny [h] | AV92: DPH základní [CZK] | AW92: DPH snížená [CZK] | AX92: DPH základní přenesená_x000D_ [CZK] | AY92: DPH snížená přenesená_x000D_ [CZK] | AZ92: Základna_x000D_ DPH základní | BA92: Základna_x000D_ DPH snížená | BB92: Základna_x000D_ DPH zákl. přenesená | BC92: Základna_x000D_ DPH sníž. přenesená | BD92: Základna_x000D_ DPH nulová
C94: Náklady z rozpočtů | AG94: =ROUND(SUM(AG95:AG96),2) -> 0 | AN94: =SUM(AG94,AT94) -> 0 | AS94: =ROUND(SUM(AS95:AS96),2) -> 0 | AT94: =ROUND(SUM(AV94:AW94),2) -> 0 | AU94: =ROUND(SUM(AU95:AU96),5) -> 0 | AV94: =ROUND(AZ94*L29,2) -> 0 | AW94: =ROUND(BA94*L30,2) -> 0 | AX94: =ROUND(BB94*L29,2) -> 0 | AY94: =ROUND(BC94*L30,2) -> 0 | AZ94: =ROUND(SUM(AZ95:AZ96),2) -> 0 | BA94: =ROUND(SUM(BA95:BA96),2) -> 0 | BB94: =ROUND(SUM(BB95:BB96),2) -> 0 | BC94: =ROUND(SUM(BC95:BC96),2) -> 0 | BD94: =ROUND(SUM(BD95:BD96),2) -> 0 | BS94: D | BT94: 0 | BU94: ###NOIMPORT### | BV94: IMPORT | BW94: {7a6d6fbc-4024-4c56-9e90-83f04409657a} | BX94: {00000000-0000-0000-0000-000000000000}
A95: / | D95: 02 | J95: Ostatní a vedlejší náklady | AG95: ='02 - Ostatní a vedlejší n...'!J30 -> 0 | AN95: =SUM(AG95,AT95) -> 0 | AQ95: STA | AS95: 0 | AT95: =ROUND(SUM(AV95:AW95),2) -> 0 | AU95: ='02 - Ostatní a vedlejší n...'!P117 -> 0 | AV95: ='02 - Ostatní a vedlejší n...'!J33 -> 0 | AW95: ='02 - Ostatní a vedlejší n...'!J34 -> 0 | AX95: ='02 - Ostatní a vedlejší n...'!J35 -> 0 | AY95: ='02 - Ostatní a vedlejší n...'!J36 -> 0 | AZ95: ='02 - Ostatní a vedlejší n...'!F33 -> 0 | BA95: ='02 - Ostatní a vedlejší n...'!F34 -> 0 | BB95: ='02 - Ostatní a vedlejší n...'!F35 -> 0 | BC95: ='02 - Ostatní a vedlejší n...'!F36 -> 0 | BD95: ='02 - Ostatní a vedlejší n...'!F37 -> 0 | BT95: 1 | BV95: IMPORT | BW95: {ed77f8c8-0fb6-464b-a735-de15c3ba4d98} | BX95: {7a6d6fbc-4024-4c56-9e90-83f04409657a} | CM95: 2
A96: / | D96: 101b | J96: Místní komunikace (osa 30) | AG96: ='101b - Místní komunikace ...'!J30 -> 0 | AN96: =SUM(AG96,AT96) -> 0 | AQ96: STA | AS96: 0 | AT96: =ROUND(SUM(AV96:AW96),2) -> 0 | AU96: ='101b - Místní komunikace ...'!P122 -> 0 | AV96: ='101b - Místní komunikace ...'!J33 -> 0 | AW96: ='101b - Místní komunikace ...'!J34 -> 0 | AX96: ='101b - Místní komunikace ...'!J35 -> 0 | AY96: ='101b - Místní komunikace ...'!J36 -> 0 | AZ96: ='101b - Místní komunikace ...'!F33 -> 0 | BA96: ='101b - Místní komunikace ...'!F34 -> 0 | BB96: ='101b - Místní komunikace ...'!F35 -> 0 | BC96: ='101b - Místní komunikace ...'!F36 -> 0 | BD96: ='101b - Místní komunikace ...'!F37 -> 0 | BT96: 1 | BV96: IMPORT | BW96: {fb0616ac-d272-43c0-a94e-11199835bc10} | BX96: {7a6d6fbc-4024-4c56-9e90-83f04409657a} | CL96: 822 27 72 | CM96: 2

Sheet 02 - Ostatní a vedlejší n...
AT2: {ed77f8c8-0fb6-464b-a735-de15c3ba4d98}
AT3: 2
D4: KRYCÍ LIST SOUPISU PRACÍ | M4: v --- níže se nacházejí doplnkové a pomocné údaje k sestavám --- v | AT4: False
D6: Stavba:
E7: ='Rekapitulace stavby'!K6 -> Místní komunikace u zemědělského areálu - Mníšek II.etapa
D8: Objekt:
E9: 02 - Ostatní a vedlejší náklady
D11: KSO: | I11: CC-CZ:
D12: Místo: | F12: Stříbřec, místní část Mníšek | I12: Datum: | J12: ='Rekapitulace stavby'!AN8 -> 2. 1. 2025
D14: Zadavatel: | I14: IČ:
E15: Obec Stříbřec | I15: DIČ:
D17: Uchazeč: | I17: IČ: | J17: ='Rekapitulace stavby'!AN13 -> Vyplň údaj
E18: ='Rekapitulace stavby'!E14 -> Vyplň údaj | I18: DIČ: | J18: ='Rekapitulace stavby'!AN14 -> Vyplň údaj
D20: Projektant: | I20: IČ:
E21: WAY project s.r.o. | I21: DIČ:
D23: Zpracovatel: | I23: IČ: | J23: =IF('Rekapitulace stavby'!AN19="","",'Rekapitulace stavby'!AN19)
E24: =IF('Rekapitulace stavby'!E20="","",'Rekapitulace stavby'!E20) | I24: DIČ: | J24: =IF('Rekapitulace stavby'!AN20="","",'Rekapitulace stavby'!AN20)
D26: Poznámka:
D30: Cena bez DPH | J30: =ROUND(J117, 2) -> 0
F32: Základ daně | I32: Sazba daně | J32: Výše daně
D33: DPH | E33: základní | F33: =ROUND((SUM(BE117:BE161)), 2) -> 0 | I33: 0.21 | J33: =ROUND(((SUM(BE117:BE161))*I33), 2) -> 0
E34: snížená | F34: =ROUND((SUM(BF117:BF161)), 2) -> 0 | I34: 0.15 | J34: =ROUND(((SUM(BF117:BF161))*I34), 2) -> 0
E35: zákl. přenesená | F35: =ROUND((SUM(BG117:BG161)), 2) -> 0 | I35: 0.21 | J35: =0 -> 0
E36: sníž. přenesená | F36: =ROUND((SUM(BH117:BH161)), 2) -> 0 | I36: 0.15 | J36: =0 -> 0
E37: nulová | F37: =ROUND((SUM(BI117:BI161)), 2) -> 0 | I37: 0 | J37: =0 -> 0
D39: Cena s DPH | G39: v | H39: CZK | J39: =SUM(J30:J37) -> 0
D50: Projektant | G50: Zpracovatel
D61: Datum a podpis: | F61: Razítko | G61: Datum a podpis: | J61: Razítko
D65: Objednavatel | G65: Uchazeč
D76: Datum a podpis: | F76: Razítko | G76: Datum a podpis: | J76: Razítko
C82: REKAPITULACE ČLENĚNÍ SOUPISU PRACÍ
C84: Stavba:
E85: =E7 -> Místní komunikace u zemědělského areálu - Mníšek II.etapa
C86: Objekt:
E87: =E9 -> 02 - Ostatní a vedlejší náklady
C89: Místo: | F89: =F12 -> Stříbřec, místní část Mníšek | I89: Datum: | J89: =IF(J12="","",J12) -> 2. 1. 2025
C91: Zadavatel: | F91: =E15 -> Obec Stříbřec | I91: Projektant: | J91: =E21 -> WAY project s.r.o.
C92: Uchazeč: | F92: =IF(E18="","",E18) -> Vyplň údaj | I92: Zpracovatel: | J92: =E24
C94: Kód dílu - Popis | J94: Cena celkem [CZK]
C96: Náklady ze soupisu prací | J96: =J117 -> 0 | AU96: -1
D97: OST - Ostatní | J97: =J118 -> 0
C104: SOUPIS PRACÍ
C106: Stavba:
E107: =E7 -> Místní komunikace u zemědělského areálu - Mníšek II.etapa
C108: Objekt:
E109: =E9 -> 02 - Ostatní a vedlejší náklady
C111: Místo: | F111: =F12 -> Stříbřec, místní část Mníšek | I111: Datum: | J111: =IF(J12="","",J12) -> 2. 1. 2025
C113: Zadavatel: | F113: =E15 -> Obec Stříbřec | I113: Projektant: | J113: =E21 -> WAY project s.r.o.
C114: Uchazeč: | F114: =IF(E18="","",E18) -> Vyplň údaj | I114: Zpracovatel: | J114: =E24
C116: PČ | D116: Typ | E116: Kód | F116: Popis | G116: MJ | H116: Množství | I116: J.cena [CZK] | J116: Cena celkem [CZK] | K116: Cenová soustava | N116: DPH | O116: J. Nh [h] | P116: Nh celkem [h] | Q116: J. hmotnost [t] | R116: Hmotnost celkem [t] | S116: J. suť [t] | T116: Suť Celkem [t]
C117: Náklady soupisu celkem | J117: =BK117 -> 0 | P117: =P118 -> 0 | R117: =R118 -> 0 | T117: =T118 -> 0 | AT117: D | AU117: -1 | BK117: =BK118 -> 0
D118: D | E118: OST | F118: Ostatní | J118: =BK118 -> 0 | P118: =SUM(P119:P161) -> 0 | R118: =SUM(R119:R161) -> 0 | T118: =SUM(T119:T161) -> 0 | AR118: 4 | AT118: D | AU118: 0 | AY118: ROZPOCET | BK118: =SUM(BK119:BK161) -> 0
C119: 1 | D119: K | E119: 053002000 | F119: Poplatky | G119: kpl | H119: 1 | J119: =ROUND(I119*H119,2) -> 0 | K119: CS ÚRS 2024 02 | N119: základní | P119: =O119*H119 -> 0 | Q119: 0 | R119: =Q119*H119 -> 0 | S119: 0 | T119: =S119*H119 -> 0 | AR119: 512 | AT119: K | AU119: 1 | AY119: ROZPOCET | BE119: =IF(N119="základní",J119,0) -> 0 | BF119: =IF(N119="snížená",J119,0) -> 0 | BG119: =IF(N119="zákl. přenesená",J119,0) -> 0 | BH119: =IF(N119="sníž. přenesená",J119,0) -> 0 | BI119: =IF(N119="nulová",J119,0) -> 0 | BJ119: 1 | BK119: =ROUND(I119*H119,2) -> 0 | BL119: 512 | BM119: -1803026739
D120: VV | F120: "za vytýčení inženýrský sítí pro stavbu jako celek" 1 | H120: 1 | AT120: VV | AU120: 1 | AV120: 2 | AW120: True | AX120: 1 | AY120: ROZPOCET
C121: 2 | D121: K | E121: 043103000w | F121: Zkoušky bez rozlišení -Zkoušky materiálů zkušebnou zhotovitele | G121: kpl | H121: 1 | J121: =ROUND(I121*H121,2) -> 0 | N121: základní | P121: =O121*H121 -> 0 | Q121: 0 | R121: =Q121*H121 -> 0 | S121: 0 | T121: =S121*H121 -> 0 | AR121: 512 | AT121: K | AU121: 1 | AY121: ROZPOCET | BE121: =IF(N121="základní",J121,0) -> 0 | BF121: =IF(N121="snížená",J121,0) -> 0 | BG121: =IF(N121="zákl. přenesená",J121,0) -> 0 | BH121: =IF(N121="sníž. přenesená",J121,0) -> 0 | BI121: =IF(N121="nulová",J121,0) -> 0 | BJ121: 1 | BK121: =ROUND(I121*H121,2) -> 0 | BL121: 512 | BM121: -631003639
D122: VV | F122: zajištění všech zkoušek materiálů dle požadavků TKP a ZTKP | AT122: VV | AU122: 1 | AV122: 1 | AW122: True | AX122: 0 | AY122: ROZPOCET
D123: VV | F123: "Zkoušky materiálů zhotovitelem, pro stavbu jako celek" 1 | H123: 1 | AT123: VV | AU123: 1 | AV123: 2 | AW123: True | AX123: 1 | AY123: ROZPOCET
D124: VV | F124: včetně zkoušek vzorkování a výluhu dle vyhl. č. 130/2019 Sb. | AT124: VV | AU124: 1 | AV124: 1 | AW124: True | AX124: 0 | AY124: ROZPOCET
C125: 3 | D125: K | E125: 043103000w1 | F125: Zkoušky bez rozlišení -Zkoušky materiálů nezávislou zkušebnou | G125: kpl | H125: 1 | J125: =ROUND(I125*H125,2) -> 0 | N125: základní | P125: =O125*H125 -> 0 | Q125: 0 | R125: =Q125*H125 -> 0 | S125: 0 | T125: =S125*H125 -> 0 | AR125: 512 | AT125: K | AU125: 1 | AY125: ROZPOCET | BE125: =IF(N125="základní",J125,0) -> 0 | BF125: =IF(N125="snížená",J125,0) -> 0 | BG125: =IF(N125="zákl. přenesená",J125,0) -> 0 | BH125: =IF(N125="sníž. přenesená",J125,0) -> 0 | BI125: =IF(N125="nulová",J125,0) -> 0 | BJ125: 1 | BK125: =ROUND(I125*H125,2) -> 0 | BL125: 512 | BM125: -828958501
D126: VV | F126: zajištění všech zkoušek materiálů dle požadavků TKP a ZTKP | AT126: VV | AU126: 1 | AV126: 1 | AW126: True | AX126: 0 | AY126: ROZPOCET
D127: VV | F127: "bere se pro stavbu jako celek, uvažovat 10000 Kč" 1 | H127: 1 | AT127: VV | AU127: 1 | AV127: 2 | AW127: True | AX127: 1 | AY127: ROZPOCET
D128: VV | F128: Čerpat po odsouhlasení TDI. | AT128: VV | AU128: 1 | AV128: 1 | AW128: True | AX128: 0 | AY128: ROZPOCET
C129: 4 | D129: K | E129: 043194000w | F129: Ostatní zkoušky - Zkoušky konstrukcí a prací zkušebnou zhotovitele | G129: kpl | H129: 1 | J129: =ROUND(I129*H129,2) -> 0 | N129: základní | P129: =O129*H129 -> 0 | Q129: 0 | R129: =Q129*H129 -> 0 | S129: 0 | T129: =S129*H129 -> 0 | AR129: 512 | AT129: K | AU129: 1 | AY129: ROZPOCET | BE129: =IF(N129="základní",J129,0) -> 0 | BF129: =IF(N129="snížená",J129,0) -> 0 | BG129: =IF(N129="zákl. přenesená",J129,0) -> 0 | BH129: =IF(N129="sníž. přenesená",J129,0) -> 0 | BI129: =IF(N129="nulová",J129,0) -> 0 | BJ129: 1 | BK129: =ROUND(I129*H129,2) -> 0 | BL129: 512 | BM129: 583666159
D130: VV | F130: zajištění všech zkoušek konstrukcí a prací dle požadavků TKP a ZTKP | AT130: VV | AU130: 1 | AV130: 1 | AW130: True | AX130: 0 | AY130: ROZPOCET
D131: VV | F131: "Pro stavbu jako celek" 1 | H131: 1 | AT131: VV | AU131: 1 | AV131: 2 | AW131: True | AX131: 1 | AY131: ROZPOCET
C132: 5 | D132: K | E132: 043194000w1 | F132: Ostatní zkoušky - Zkoušky konstrukcí a prací nezávislou zkušebnou | G132: kpl | H132: 1 | J132: =ROUND(I132*H132,2) -> 0 | N132: základní | P132: =O132*H132 -> 0 | Q132: 0 | R132: =Q132*H132 -> 0 | S132: 0 | T132: =S132*H132 -> 0 | AR132: 512 | AT132: K | AU132: 1 | AY132: ROZPOCET | BE132: =IF(N132="základní",J132,0) -> 0 | BF132: =IF(N132="snížená",J132,0) -> 0 | BG132: =IF(N132="zákl. přenesená",J132,0) -> 0 | BH132: =IF(N132="sníž. přenesená",J132,0) -> 0 | BI132: =IF(N132="nulová",J132,0) -> 0 | BJ132: 1 | BK132: =ROUND(I132*H132,2) -> 0 | BL132: 512 | BM132: -1265643410
D133: VV | F133: zajištění všech zkoušek konstrukcí a prací dle požadavků TKP a ZTKP | AT133: VV | AU133: 1 | AV133: 1 | AW133: True | AX133: 0 | AY133: ROZPOCET
D134: VV | F134: "bere se pro celou stavbu jako celek, uvažovat 10000 Kč" 1 | H134: 1 | AT134: VV | AU134: 1 | AV134: 2 | AW134: True | AX134: 1 | AY134: ROZPOCET
D135: VV | F135: Čerpat po odsouhlasení TDI. | AT135: VV | AU135: 1 | AV135: 1 | AW135: True | AX135: 0 | AY135: ROZPOCET
C136: 6 | D136: K | E136: 034303000 | F136: Dopravní značení na staveništi | G136: kpl | H136: 1 | J136: =ROUND(I136*H136,2) -> 0 | K136: CS ÚRS 2024 02 | N136: základní | P136: =O136*H136 -> 0 | Q136: 0 | R136: =Q136*H136 -> 0 | S136: 0 | T136: =S136*H136 -> 0 | AR136: 512 | AT136: K | AU136: 1 | AY136: ROZPOCET | BE136: =IF(N136="základní",J136,0) -> 0 | BF136: =IF(N136="snížená",J136,0) -> 0 | BG136: =IF(N136="zákl. přenesená",J136,0) -> 0 | BH136: =IF(N136="sníž. přenesená",J136,0) -> 0 | BI136: =IF(N136="nulová",J136,0) -> 0 | BJ136: 1 | BK136: =ROUND(I136*H136,2) -> 0 | BL136: 512 | BM136: -1599670676
D137: VV | F137: dopravně inženýrské opatření | AT137: VV | AU137: 1 | AV137: 1 | AW137: True | AX137: 0 | AY137: ROZPOCET
D138: VV | F138: označení uzavřeného úseku, vč. přeznačování v průběhu stavby a zajištění uzavírky | AT138: VV | AU138: 1 | AV138: 1 | AW138: True | AX138: 0 | AY138: ROZPOCET
D139: VV | F139: "bere se pro stavbu jako celek" 1 | H139: 1 | AT139: VV | AU139: 1 | AV139: 2 | AW139: True | AX139: 1 | AY139: ROZPOCET
C140: 7 | D140: K | E140: 011103000 | F140: Geologický průzkum bez rozlišení | G140: kpl | H140: 1 | J140: =ROUND(I140*H140,2) -> 0 | K140: CS ÚRS 2024 02 | N140: základní | P140: =O140*H140 -> 0 | Q140: 0 | R140: =Q140*H140 -> 0 | S140: 0 | T140: =S140*H140 -> 0 | AR140: 512 | AT140: K | AU140: 1 | AY140: ROZPOCET | BE140: =IF(N140="základní",J140,0) -> 0 | BF140: =IF(N140="snížená",J140,0) -> 0 | BG140: =IF(N140="zákl. přenesená",J140,0) -> 0 | BH140: =IF(N140="sníž. přenesená",J140,0) -> 0 | BI140: =IF(N140="nulová",J140,0) -> 0 | BJ140: 1 | BK140: =ROUND(I140*H140,2) -> 0 | BL140: 512 | BM140: -1680787531
D141: VV | F141: prohlídka a posouzení podloží vozovky geotechnikem včetně návrhu opatření | AT141: VV | AU141: 1 | AV141: 1 | AW141: True | AX141: 0 | AY141: ROZPOCET
D142: VV | F142: "pro stavbu jako celek" 1 | H142: 1 | AT142: VV | AU142: 1 | AV142: 2 | AW142: True | AX142: 1 | AY142: ROZPOCET
C143: 8 | D143: K | E143: 012203000 | F143: Geodetické práce při provádění stavby | G143: kpl | H143: 1 | J143: =ROUND(I143*H143,2) -> 0 | K143: CS ÚRS 2024 02 | N143: základní | P143: =O143*H143 -> 0 | Q143: 0 | R143: =Q143*H143 -> 0 | S143: 0 | T143: =S143*H143 -> 0 | AR143: 512 | AT143: K | AU143: 1 | AY143: ROZPOCET | BE143: =IF(N143="základní",J143,0) -> 0 | BF143: =IF(N143="snížená",J143,0) -> 0 | BG143: =IF(N143="zákl. přenesená",J143,0) -> 0 | BH143: =IF(N143="sníž. přenesená",J143,0) -> 0 | BI143: =IF(N143="nulová",J143,0) -> 0 | BJ143: 1 | BK143: =ROUND(I143*H143,2) -> 0 | BL143: 512 | BM143: -519015433
D144: VV | F144: podrobné vytýčení podle vytyčovacích protokolů | AT144: VV | AU144: 1 | AV144: 1 | AW144: True | AX144: 0 | AY144: ROZPOCET
D145: VV | F145: podrobné vytýčení výšek povrchu podle příčných řezů | AT145: VV | AU145: 1 | AV145: 1 | AW145: True | AX145: 0 | AY145: ROZPOCET
D146: VV | F146: "pro stavbu jako celek" 1 | H146: 1 | AT146: VV | AU146: 1 | AV146: 2 | AW146: True | AX146: 1 | AY146: ROZPOCET
C147: 9 | D147: K | E147: 012303000 | F147: Geodetické práce po výstavbě | G147: kpl | H147: 1 | J147: =ROUND(I147*H147,2) -> 0 | K147: CS ÚRS 2024 02 | N147: základní | P147: =O147*H147 -> 0 | Q147: 0 | R147: =Q147*H147 -> 0 | S147: 0 | T147: =S147*H147 -> 0 | AR147: 512 | AT147: K | AU147: 1 | AY147: ROZPOCET | BE147: =IF(N147="základní",J147,0) -> 0 | BF147: =IF(N147="snížená",J147,0) -> 0 | BG147: =IF(N147="zákl. přenesená",J147,0) -> 0 | BH147: =IF(N147="sníž. přenesená",J147,0) -> 0 | BI147: =IF(N147="nulová",J147,0) -> 0 | BJ147: 1 | BK147: =ROUND(I147*H147,2) -> 0 | BL147: 512 | BM147: 2101929908
D148: VV | F148: Zaměření skutečného provedení stavby | AT148: VV | AU148: 1 | AV148: 1 | AW148: True | AX148: 0 | AY148: ROZPOCET
D149: VV | F149: "pro stavbu jako celek" 1 | H149: 1 | AT149: VV | AU149: 1 | AV149: 2 | AW149: True | AX149: 1 | AY149: ROZPOCET
C150: 10 | D150: K | E150: 013254000 | F150: Dokumentace skutečného provedení stavby | G150: kpl | H150: 1 | J150: =ROUND(I150*H150,2) -> 0 | K150: CS ÚRS 2024 02 | N150: základní | P150: =O150*H150 -> 0 | Q150: 0 | R150: =Q150*H150 -> 0 | S150: 0 | T150: =S150*H150 -> 0 | AR150: 512 | AT150: K | AU150: 1 | AY150: ROZPOCET | BE150: =IF(N150="základní",J150,0) -> 0 | BF150: =IF(N150="snížená",J150,0) -> 0 | BG150: =IF(N150="zákl. přenesená",J150,0) -> 0 | BH150: =IF(N150="sníž. přenesená",J150,0) -> 0 | BI150: =IF(N150="nulová",J150,0) -> 0 | BJ150: 1 | BK150: =ROUND(I150*H150,2) -> 0 | BL150: 512 | BM150: 773017539
D151: VV | F151: vypracování dokumentace skutečného provedení stavby | AT151: VV | AU151: 1 | AV151: 1 | AW151: True | AX151: 0 | AY151: ROZPOCET
D152: VV | F152: "pro stavbu jako celek, PD ve 4 vyhotoveních" 1 | H152: 1 | AT152: VV | AU152: 1 | AV152: 2 | AW152: True | AX152: 1 | AY152: ROZPOCET
C153: 11 | D153: K | E153: 013254000w | F153: Dokumentace skutečného provedení stavby | G153: kpl | H153: 1 | J153: =ROUND(I153*H153,2) -> 0 | N153: základní | P153: =O153*H153 -> 0 | Q153: 0 | R153: =Q153*H153 -> 0 | S153: 0 | T153: =S153*H153 -> 0 | AR153: 1024 | AT153: K | AU153: 1 | AY153: ROZPOCET | BE153: =IF(N153="základní",J153,0) -> 0 | BF153: =IF(N153="snížená",J153,0) -> 0 | BG153: =IF(N153="zákl. přenesená",J153,0) -> 0 | BH153: =IF(N153="sníž. přenesená",J153,0) -> 0 | BI153: =IF(N153="nulová",J153,0) -> 0 | BJ153: 1 | BK153: =ROUND(I153*H153,2) -> 0 | BL153: 1024 | BM153: -1797077538
D154: VV | F154: "vypracování dokumentace skutečného provedení v podrobnosti pro digitální technickou mapu Jihočeského kraje"1 | H154: 1 | AT154: VV | AU154: 1 | AV154: 2 | AW154: True | AX154: 1 | AY154: ROZPOCET
C155: 12 | D155: K | E155: 041414000 | F155: Plán BOZP | G155: kpl | H155: 1 | J155: =ROUND(I155*H155,2) -> 0 | K155: CS ÚRS 2024 02 | N155: základní | P155: =O155*H155 -> 0 | Q155: 0 | R155: =Q155*H155 -> 0 | S155: 0 | T155: =S155*H155 -> 0 | AR155: 512 | AT155: K | AU155: 1 | AY155: ROZPOCET | BE155: =IF(N155="základní",J155,0) -> 0 | BF155: =IF(N155="snížená",J155,0) -> 0 | BG155: =IF(N155="zákl. přenesená",J155,0) -> 0 | BH155: =IF(N155="sníž. přenesená",J155,0) -> 0 | BI155: =IF(N155="nulová",J155,0) -> 0 | BJ155: 1 | BK155: =ROUND(I155*H155,2) -> 0 | BL155: 512 | BM155: 121459794
D156: VV | F156: opatření pro zajištění BOZP na staveništi | AT156: VV | AU156: 1 | AV156: 1 | AW156: True | AX156: 0 | AY156: ROZPOCET
D157: VV | F157: oplocení a ohrazení staveniště, vytýčení bezp. koridoru pro pěší a cyklisty | AT157: VV | AU157: 1 | AV157: 1 | AW157: True | AX157: 0 | AY157: ROZPOCET
D158: VV | F158: "pro stavbu jako celek" 1 | H158: 1 | AT158: VV | AU158: 1 | AV158: 2 | AW158: True | AX158: 1 | AY158: ROZPOCET
C159: 13 | D159: K | E159: 034203000 | F159: Opatření na ochranu pozemků sousedních se staveništěm | G159: kpl | H159: 1 | J159: =ROUND(I159*H159,2) -> 0 | K159: CS ÚRS 2024 02 | N159: základní | P159: =O159*H159 -> 0 | Q159: 0 | R159: =Q159*H159 -> 0 | S159: 0 | T159: =S159*H159 -> 0 | AR159: 512 | AT159: K | AU159: 1 | AY159: ROZPOCET | BE159: =IF(N159="základní",J159,0) -> 0 | BF159: =IF(N159="snížená",J159,0) -> 0 | BG159: =IF(N159="zákl. přenesená",J159,0) -> 0 | BH159: =IF(N159="sníž. přenesená",J159,0) -> 0 | BI159: =IF(N159="nulová",J159,0) -> 0 | BJ159: 1 | BK159: =ROUND(I159*H159,2) -> 0 | BL159: 512 | BM159: -906665261
D160: VV | F160: Vypracování pasportu statického stavu přilehlé zástavby, | AT160: VV | AU160: 1 | AV160: 1 | AW160: True | AX160: 0 | AY160: ROZPOCET
D161: VV | F161: "pro stavbu jako celek" 1 | H161: 1 | AT161: VV | AU161: 1 | AV161: 2 | AW161: True | AX161: 1 | AY161: ROZPOCET

Sheet 101b - Místní komunikace ...
AT2: {fb0616ac-d272-43c0-a94e-11199835bc10}
AT3: 2
D4: KRYCÍ LIST SOUPISU PRACÍ | M4: v --- níže se nacházejí doplnkové a pomocné údaje k sestavám --- v | AT4: False
D6: Stavba:
E7: ='Rekapitulace stavby'!K6 -> Místní komunikace u zemědělského areálu - Mníšek II.etapa
D8: Objekt:
E9: 101b - Místní komunikace (osa 30)
D11: KSO: | F11: 822 27 72 | I11: CC-CZ:
D12: Místo: | F12: Stříbřec, místní část Mníšek | I12: Datum: | J12: ='Rekapitulace stavby'!AN8 -> 2. 1. 2025
D14: Zadavatel: | I14: IČ:
E15: Obec Stříbřec | I15: DIČ:
D17: Uchazeč: | I17: IČ: | J17: ='Rekapitulace stavby'!AN13 -> Vyplň údaj
E18: ='Rekapitulace stavby'!E14 -> Vyplň údaj | I18: DIČ: | J18: ='Rekapitulace stavby'!AN14 -> Vyplň údaj
D20: Projektant: | I20: IČ:
E21: WAY project s.r.o. | I21: DIČ:
D23: Zpracovatel: | I23: IČ: | J23: =IF('Rekapitulace stavby'!AN19="","",'Rekapitulace stavby'!AN19)
E24: =IF('Rekapitulace stavby'!E20="","",'Rekapitulace stavby'!E20) | I24: DIČ: | J24: =IF('Rekapitulace stavby'!AN20="","",'Rekapitulace stavby'!AN20)
D26: Poznámka:
D30: Cena bez DPH | J30: =ROUND(J122, 2) -> 0
F32: Základ daně | I32: Sazba daně | J32: Výše daně
D33: DPH | E33: základní | F33: =ROUND((SUM(BE122:BE193)), 2) -> 0 | I33: 0.21 | J33: =ROUND(((SUM(BE122:BE193))*I33), 2) -> 0
E34: snížená | F34: =ROUND((SUM(BF122:BF193)), 2) -> 0 | I34: 0.15 | J34: =ROUND(((SUM(BF122:BF193))*I34), 2) -> 0
E35: zákl. přenesená | F35: =ROUND((SUM(BG122:BG193)), 2) -> 0 | I35: 0.21 | J35: =0 -> 0
E36: sníž. přenesená | F36: =ROUND((SUM(BH122:BH193)), 2) -> 0 | I36: 0.15 | J36: =0 -> 0
E37: nulová | F37: =ROUND((SUM(BI122:BI193)), 2) -> 0 | I37: 0 | J37: =0 -> 0
D39: Cena s DPH | G39: v | H39: CZK | J39: =SUM(J30:J37) -> 0
D50: Projektant | G50: Zpracovatel
D61: Datum a podpis: | F61: Razítko | G61: Datum a podpis: | J61: Razítko
D65: Objednavatel | G65: Uchazeč
D76: Datum a podpis: | F76: Razítko | G76: Datum a podpis: | J76: Razítko
C82: REKAPITULACE ČLENĚNÍ SOUPISU PRACÍ
C84: Stavba:
E85: =E7 -> Místní komunikace u zemědělského areálu - Mníšek II.etapa
C86: Objekt:
E87: =E9 -> 101b - Místní komunikace (osa 30)
C89: Místo: | F89: =F12 -> Stříbřec, místní část Mníšek | I89: Datum: | J89: =IF(J12="","",J12) -> 2. 1. 2025
C91: Zadavatel: | F91: =E15 -> Obec Stříbřec | I91: Projektant: | J91: =E21 -> WAY project s.r.o.
C92: Uchazeč: | F92: =IF(E18="","",E18) -> Vyplň údaj | I92: Zpracovatel: | J92: =E24
C94: Kód dílu - Popis | J94: Cena celkem [CZK]
C96: Náklady ze soupisu prací | J96: =J122 -> 0 | AU96: -1
D97: HSV - Práce a dodávky HSV | J97: =J123 -> 0
D98: 1 - Zemní práce | J98: =J124 -> 0
D99: 5 - Komunikace pozemní | J99: =J156 -> 0
D100: 8 - Trubní vedení | J100: =J174 -> 0
D101: 9 - Ostatní konstrukce a práce, bourání | J101: =J181 -> 0
D102: 998 - Přesun hmot | J102: =J192 -> 0
C109: SOUPIS PRACÍ
C111: Stavba:
E112: =E7 -> Místní komunikace u zemědělského areálu - Mníšek II.etapa
C113: Objekt:
E114: =E9 -> 101b - Místní komunikace (osa 30)
C116: Místo: | F116: =F12 -> Stříbřec, místní část Mníšek | I116: Datum: | J116: =IF(J12="","",J12) -> 2. 1. 2025
C118: Zadavatel: | F118: =E15 -> Obec Stříbřec | I118: Projektant: | J118: =E21 -> WAY project s.r.o.
C119: Uchazeč: | F119: =IF(E18="","",E18) -> Vyplň údaj | I119: Zpracovatel: | J119: =E24
C121: PČ | D121: Typ | E121: Kód | F121: Popis | G121: MJ | H121: Množství | I121: J.cena [CZK] | J121: Cena celkem [CZK] | K121: Cenová soustava | N121: DPH | O121: J. Nh [h] | P121: Nh celkem [h] | Q121: J. hmotnost [t] | R121: Hmotnost celkem [t] | S121: J. suť [t] | T121: Suť Celkem [t]
C122: Náklady soupisu celkem | J122: =BK122 -> 0 | P122: =P123 -> 0 | R122: =R123 -> 51.704821 | T122: =T123 -> 12.025 | AT122: D | AU122: -1 | BK122: =BK123 -> 0
D123: D | E123: HSV | F123: Práce a dodávky HSV | J123: =BK123 -> 0 | P123: =P124+P156+P174+P181+P192 -> 0 | R123: =R124+R156+R174+R181+R192 -> 51.704821 | T123: =T124+T156+T174+T181+T192 -> 12.025 | AR123: 1 | AT123: D | AU123: 0 | AY123: ROZPOCET | BK123: =BK124+BK156+BK174+BK181+BK192 -> 0
D124: D | E124: 1 | F124: Zemní práce | J124: =BK124 -> 0 | P124: =SUM(P125:P155) -> 0 | R124: =SUM(R125:R155) -> 8.1e-05 | T124: =SUM(T125:T155) -> 11.775 | AR124: 1 | AT124: D | AU124: 1 | AY124: ROZPOCET | BK124: =SUM(BK125:BK155) -> 0
C125: 1 | D125: K | E125: 113107182 | F125: Odstranění podkladů nebo krytů strojně plochy jednotlivě přes 50 m2 do 200 m2 s přemístěním hmot na skládku na vzdálenost do 20 m nebo s naložením na dopravní prostředek živičných, o tl. vrstvy přes 50 do 100 mm | G125: m2 | H125: 53 | J125: =ROUND(I125*H125,2) -> 0 | K125: CS ÚRS 2024 02 | N125: základní | P125: =O125*H125 -> 0 | Q125: 0 | R125: =Q125*H125 -> 0 | S125: 0.22 | T125: =S125*H125 -> 11.66 | AR125: 4 | AT125: K | AU125: 2 | AY125: ROZPOCET | BE125: =IF(N125="základní",J125,0) -> 0 | BF125: =IF(N125="snížená",J125,0) -> 0 | BG125: =IF(N125="zákl. přenesená",J125,0) -> 0 | BH125: =IF(N125="sníž. přenesená",J125,0) -> 0 | BI125: =IF(N125="nulová",J125,0) -> 0 | BJ125: 1 | BK125: =ROUND(I125*H125,2) -> 0 | BL125: 4 | BM125: -2143445943
D126: VV | F126: odstranění vozovky - kryt PM, prům.tl.0,1 m | AT126: VV | AU126: 2 | AV126: 1 | AW126: True | AX126: 0 | AY126: ROZPOCET
D127: VV | F127: "dle výk. výměr" 53,0 | H127: 53 | AT127: VV | AU127: 2 | AV127: 2 | AW127: True | AX127: 1 | AY127: ROZPOCET
D128: VV | F128: dle diagnost. zatříděno jako ZAS-T1, bude použito do výměny AZ do osy 10 | AT128: VV | AU128: 2 | AV128: 1 | AW128: True | AX128: 0 | AY128: ROZPOCET
C129: 2 | D129: K | E129: 113154523 | F129: Frézování živičného podkladu nebo krytu s naložením hmot na dopravní prostředek plochy do 500 m2 pruhu šířky přes 0,5 m, tloušťky vrstvy 50 mm | G129: m2 | H129: 1 | J129: =ROUND(I129*H129,2) -> 0 | K129: CS ÚRS 2024 02 | N129: základní | P129: =O129*H129 -> 0 | Q129: 1e-05 | R129: =Q129*H129 -> 1e-05 | S129: 0.115 | T129: =S129*H129 -> 0.115 | AR129: 4 | AT129: K | AU129: 2 | AY129: ROZPOCET | BE129: =IF(N129="základní",J129,0) -> 0 | BF129: =IF(N129="snížená",J129,0) -> 0 | BG129: =IF(N129="zákl. přenesená",J129,0) -> 0 | BH129: =IF(N129="sníž. přenesená",J129,0) -> 0 | BI129: =IF(N129="nulová",J129,0) -> 0 | BJ129: 1 | BK129: =ROUND(I129*H129,2) -> 0 | BL129: 4 | BM129: 1361936378
D130: VV | F130: "plocha frézování tl.50 mm, dle výk.výměr"1 | H130: 1 | AT130: VV | AU130: 2 | AV130: 2 | AW130: True | AX130: 1 | AY130: ROZPOCET
D131: VV | F131: bude použito do výměny AZ do osy 10 | AT131: VV | AU131: 2 | AV131: 1 | AW131: True | AX131: 0 | AY131: ROZPOCET
C132: 3 | D132: K | E132: 122251101 | F132: Odkopávky a prokopávky nezapažené strojně v hornině třídy těžitelnosti I skupiny 3 do 20 m3 | G132: m3 | H132: 6.04 | J132: =ROUND(I132*H132,2) -> 0 | K132: CS ÚRS 2024 02 | N132: základní | P132: =O132*H132 -> 0 | Q132: 0 | R132: =Q132*H132 -> 0 | S132: 0 | T132: =S132*H132 -> 0 | AR132: 4 | AT132: K | AU132: 2 | AY132: ROZPOCET | BE132: =IF(N132="základní",J132,0) -> 0 | BF132: =IF(N132="snížená",J132,0) -> 0 | BG132: =IF(N132="zákl. přenesená",J132,0) -> 0 | BH132: =IF(N132="sníž. přenesená",J132,0) -> 0 | BI132: =IF(N132="nulová",J132,0) -> 0 | BJ132: 1 | BK132: =ROUND(I132*H132,2) -> 0 | BL132: 4 | BM132: 423286035
D133: VV | F133: "výkop pro nové konstrukce dle výk. výměr krajnice" 6,04 | H133: 6.04 | AT133: VV | AU133: 2 | AV133: 2 | AW133: True | AX133: 1 | AY133: ROZPOCET
C134: 4 | D134: K | E134: 129001101 | F134: Příplatek k cenám vykopávek za ztížení vykopávky v blízkosti podzemního vedení nebo výbušnin v horninách jakékoliv třídy | G134: m3 | H134: 0.604 | J134: =ROUND(I134*H134,2) -> 0 | K134: CS ÚRS 2024 02 | N134: základní | P134: =O134*H134 -> 0 | Q134: 0 | R134: =Q134*H134 -> 0 | S134: 0 | T134: =S134*H134 -> 0 | AR134: 4 | AT134: K | AU134: 2 | AY134: ROZPOCET | BE134: =IF(N134="základní",J134,0) -> 0 | BF134: =IF(N134="snížená",J134,0) -> 0 | BG134: =IF(N134="zákl. přenesená",J134,0) -> 0 | BH134: =IF(N134="sníž. přenesená",J134,0) -> 0 | BI134: =IF(N134="nulová",J134,0) -> 0 | BJ134: 1 | BK134: =ROUND(I134*H134,2) -> 0 | BL134: 4 | BM134: 908959247
D135: VV | F135: "bere se cca 10% odkopávky" 6,04*0,1 | H135: 0.604 | AT135: VV | AU135: 2 | AV135: 2 | AW135: True | AX135: 1 | AY135: ROZPOCET
C136: 5 | D136: K | E136: 162751117 | F136: Vodorovné přemístění výkopku nebo sypaniny po suchu na obvyklém dopravním prostředku, bez naložení výkopku, avšak se složením bez rozhrnutí z horniny třídy těžitelnosti I skupiny 1 až 3 na vzdálenost přes 9 000 do 10 000 m | G136: m3 | H136: 6.04 | J136: =ROUND(I136*H136,2) -> 0 | K136: CS ÚRS 2024 02 | N136: základní | P136: =O136*H136 -> 0 | Q136: 0 | R136: =Q136*H136 -> 0 | S136: 0 | T136: =S136*H136 -> 0 | AR136: 4 | AT136: K | AU136: 2 | AY136: ROZPOCET | BE136: =IF(N136="základní",J136,0) -> 0 | BF136: =IF(N136="snížená",J136,0) -> 0 | BG136: =IF(N136="zákl. přenesená",J136,0) -> 0 | BH136: =IF(N136="sníž. přenesená",J136,0) -> 0 | BI136: =IF(N136="nulová",J136,0) -> 0 | BJ136: 1 | BK136: =ROUND(I136*H136,2) -> 0 | BL136: 4 | BM136: 287928832
D137: VV | F137: přebytečná zemina na skládku odpadů do 22 km | AT137: VV | AU137: 2 | AV137: 1 | AW137: True | AX137: 0 | AY137: ROZPOCET
D138: VV | F138: "odkopávka" 6,04 | H138: 6.04 | AT138: VV | AU138: 2 | AV138: 2 | AW138: True | AX138: 1 | AY138: ROZPOCET
C139: 6 | D139: K | E139: 162751119 | F139: Vodorovné přemístění výkopku nebo sypaniny po suchu na obvyklém dopravním prostředku, bez naložení výkopku, avšak se složením bez rozhrnutí z horniny třídy těžitelnosti I skupiny 1 až 3 na vzdálenost Příplatek k ceně za každých dalších i započatých 1 000 | G139: m3 | H139: 72.48 | J139: =ROUND(I139*H139,2) -> 0 | K139: CS ÚRS 2024 02 | N139: základní | P139: =O139*H139 -> 0 | Q139: 0 | R139: =Q139*H139 -> 0 | S139: 0 | T139: =S139*H139 -> 0 | AR139: 4 | AT139: K | AU139: 2 | AY139: ROZPOCET | BE139: =IF(N139="základní",J139,0) -> 0 | BF139: =IF(N139="snížená",J139,0) -> 0 | BG139: =IF(N139="zákl. přenesená",J139,0) -> 0 | BH139: =IF(N139="sníž. přenesená",J139,0) -> 0 | BI139: =IF(N139="nulová",J139,0) -> 0 | BJ139: 1 | BK139: =ROUND(I139*H139,2) -> 0 | BL139: 4 | BM139: -131349161
D140: VV | F140: Na skládku do 22 km | AT140: VV | AU140: 2 | AV140: 1 | AW140: True | AX140: 0 | AY140: ROZPOCET
D141: VV | F141: "dle vodorovného přemístění" 6,04*(22-10) | H141: 72.48 | AT141: VV | AU141: 2 | AV141: 2 | AW141: True | AX141: 1 | AY141: ROZPOCET
C142: 7 | D142: K | E142: 171201221 | F142: Poplatek za uložení stavebního odpadu na skládce (skládkovné) zeminy a kamení zatříděného do Katalogu odpadů pod kódem 17 05 04 | G142: t | H142: 10.872 | J142: =ROUND(I142*H142,2) -> 0 | K142: CS ÚRS 2024 02 | N142: základní | P142: =O142*H142 -> 0 | Q142: 0 | R142: =Q142*H142 -> 0 | S142: 0 | T142: =S142*H142 -> 0 | AR142: 4 | AT142: K | AU142: 2 | AY142: ROZPOCET | BE142: =IF(N142="základní",J142,0) -> 0 | BF142: =IF(N142="snížená",J142,0) -> 0 | BG142: =IF(N142="zákl. přenesená",J142,0) -> 0 | BH142: =IF(N142="sníž. přenesená",J142,0) -> 0 | BI142: =IF(N142="nulová",J142,0) -> 0 | BJ142: 1 | BK142: =ROUND(I142*H142,2) -> 0 | BL142: 4 | BM142: -2081017561
D143: VV | F143: "za uložení sypaniny na skládku odpadů, dle vodor. přemístění" 6,04*1,8 | H143: 10.872 | AT143: VV | AU143: 2 | AV143: 2 | AW143: True | AX143: 1 | AY143: ROZPOCET
C144: 8 | D144: K | E144: 181351003 | F144: Rozprostření a urovnání ornice v rovině nebo ve svahu sklonu do 1:5 strojně při souvislé ploše do 100 m2, tl. vrstvy do 200 mm | G144: m2 | H144: 2.36 | J144: =ROUND(I144*H144,2) -> 0 | K144: CS ÚRS 2024 02 | N144: základní | P144: =O144*H144 -> 0 | Q144: 0 | R144: =Q144*H144 -> 0 | S144: 0 | T144: =S144*H144 -> 0 | AR144: 4 | AT144: K | AU144: 2 | AY144: ROZPOCET | BE144: =IF(N144="základní",J144,0) -> 0 | BF144: =IF(N144="snížená",J144,0) -> 0 | BG144: =IF(N144="zákl. přenesená",J144,0) -> 0 | BH144: =IF(N144="sníž. přenesená",J144,0) -> 0 | BI144: =IF(N144="nulová",J144,0) -> 0 | BJ144: 1 | BK144: =ROUND(I144*H144,2) -> 0 | BL144: 4 | BM144: -1544318511
D145: VV | F145: "ohumusování v rovině tl.100 mm dle výk. výměr, včetně dodání chybějící ornice" 2,36 | H145: 2.36 | AT145: VV | AU145: 2 | AV145: 2 | AW145: True | AX145: 1 | AY145: ROZPOCET
C146: 9 | D146: K | E146: 181411131 | F146: Založení trávníku na půdě předem připravené plochy do 1000 m2 výsevem včetně utažení parkového v rovině nebo na svahu do 1:5 | G146: m2 | H146: 2.36 | J146: =ROUND(I146*H146,2) -> 0 | K146: CS ÚRS 2024 02 | N146: základní | P146: =O146*H146 -> 0 | Q146: 0 | R146: =Q146*H146 -> 0 | S146: 0 | T146: =S146*H146 -> 0 | AR146: 4 | AT146: K | AU146: 2 | AY146: ROZPOCET | BE146: =IF(N146="základní",J146,0) -> 0 | BF146: =IF(N146="snížená",J146,0) -> 0 | BG146: =IF(N146="zákl. přenesená",J146,0) -> 0 | BH146: =IF(N146="sníž. přenesená",J146,0) -> 0 | BI146: =IF(N146="nulová",J146,0) -> 0 | BJ146: 1 | BK146: =ROUND(I146*H146,2) -> 0 | BL146: 4 | BM146: -1226179708
D147: VV | F147: "dle ohumusování v rovině, dle výk. výměr" 2,36 | H147: 2.36 | AT147: VV | AU147: 2 | AV147: 2 | AW147: True | AX147: 1 | AY147: ROZPOCET
C148: 10 | D148: M | E148: 00572410 | F148: osivo směs travní parková | G148: kg | H148: 0.071 | J148: =ROUND(I148*H148,2) -> 0 | K148: CS ÚRS 2024 02 | N148: základní | P148: =O148*H148 -> 0 | Q148: 0.001 | R148: =Q148*H148 -> 7.1e-05 | S148: 0 | T148: =S148*H148 -> 0 | AR148: 8 | AT148: M | AU148: 2 | AY148: ROZPOCET | BE148: =IF(N148="základní",J148,0) -> 0 | BF148: =IF(N148="snížená",J148,0) -> 0 | BG148: =IF(N148="zákl. přenesená",J148,0) -> 0 | BH148: =IF(N148="sníž. přenesená",J148,0) -> 0 | BI148: =IF(N148="nulová",J148,0) -> 0 | BJ148: 1 | BK148: =ROUND(I148*H148,2) -> 0 | BL148: 4 | BM148: -1183784715
D149: VV | F149: dle ohumusování dle výk. výměr, cca 0.03 kg/m2 | AT149: VV | AU149: 2 | AV149: 1 | AW149: True | AX149: 0 | AY149: ROZPOCET
D150: VV | F150: 2,36*0,03 | H150: 0.071 | AT150: VV | AU150: 2 | AV150: 2 | AW150: True | AX150: 1 | AY150: ROZPOCET
C151: 11 | D151: K | E151: 181951111 | F151: Úprava pláně vyrovnáním výškových rozdílů strojně v hornině třídy těžitelnosti I, skupiny 1 až 3 bez zhutnění | G151: m2 | H151: 2.36 | J151: =ROUND(I151*H151,2) -> 0 | K151: CS ÚRS 2024 02 | N151: základní | P151: =O151*H151 -> 0 | Q151: 0 | R151: =Q151*H151 -> 0 | S151: 0 | T151: =S151*H151 -> 0 | AR151: 4 | AT151: K | AU151: 2 | AY151: ROZPOCET | BE151: =IF(N151="základní",J151,0) -> 0 | BF151: =IF(N151="snížená",J151,0) -> 0 | BG151: =IF(N151="zákl. přenesená",J151,0) -> 0 | BH151: =IF(N151="sníž. přenesená",J151,0) -> 0 | BI151: =IF(N151="nulová",J151,0) -> 0 | BJ151: 1 | BK151: =ROUND(I151*H151,2) -> 0 | BL151: 4 | BM151: -1010643682
D152: VV | F152: "pro plochy ohumusování v rovině, dle výk. výměr" 2,36 | H152: 2.36 | AT152: VV | AU152: 2 | AV152: 2 | AW152: True | AX152: 1 | AY152: ROZPOCET
C153: 12 | D153: K | E153: 185804311 | F153: Zalití rostlin vodou plochy záhonů jednotlivě do 20 m2 | G153: m3 | H153: 0.236 | J153: =ROUND(I153*H153,2) -> 0 | K153: CS ÚRS 2024 02 | N153: základní | P153: =O153*H153 -> 0 | Q153: 0 | R153: =Q153*H153 -> 0 | S153: 0 | T153: =S153*H153 -> 0 | AR153: 4 | AT153: K | AU153: 2 | AY153: ROZPOCET | BE153: =IF(N153="základní",J153,0) -> 0 | BF153: =IF(N153="snížená",J153,0) -> 0 | BG153: =IF(N153="zákl. přenesená",J153,0) -> 0 | BH153: =IF(N153="sníž. přenesená",J153,0) -> 0 | BI153: =IF(N153="nulová",J153,0) -> 0 | BJ153: 1 | BK153: =ROUND(I153*H153,2) -> 0 | BL153: 4 | BM153: 232415226
D154: VV | F154: uvažuje se 10x po 10 l na 1 m2 travnatých ploch | AT154: VV | AU154: 2 | AV154: 1 | AW154: True | AX154: 0 | AY154: ROZPOCET
D155: VV | F155: 2,36*10*10*0,001 | H155: 0.236 | AT155: VV | AU155: 2 | AV155: 2 | AW155: True | AX155: 1 | AY155: ROZPOCET
D156: D | E156: 5 | F156: Komunikace pozemní | J156: =BK156 -> 0 | P156: =SUM(P157:P173) -> 0 | R156: =SUM(R157:R173) -> 51.452858 | T156: =SUM(T157:T173) -> 0 | AR156: 1 | AT156: D | AU156: 1 | AY156: ROZPOCET | BK156: =SUM(BK157:BK173) -> 0
C157: 13 | D157: K | E157: 569831111 | F157: Zpevnění krajnic nebo komunikací pro pěší s rozprostřením a zhutněním, po zhutnění štěrkodrtí tl. 100 mm | G157: m2 | H157: 77.64 | J157: =ROUND(I157*H157,2) -> 0 | K157: CS ÚRS 2024 02 | N157: základní | P157: =O157*H157 -> 0 | Q157: 0.23 | R157: =Q157*H157 -> 17.8572 | S157: 0 | T157: =S157*H157 -> 0 | AR157: 4 | AT157: K | AU157: 2 | AY157: ROZPOCET | BE157: =IF(N157="základní",J157,0) -> 0 | BF157: =IF(N157="snížená",J157,0) -> 0 | BG157: =IF(N157="zákl. přenesená",J157,0) -> 0 | BH157: =IF(N157="sníž. přenesená",J157,0) -> 0 | BI157: =IF(N157="nulová",J157,0) -> 0 | BJ157: 1 | BK157: =ROUND(I157*H157,2) -> 0 | BL157: 4 | BM157: -945234667
D158: VV | F158: "dosypání krajnic a sjezdů z ŠD tl. 100 mm dle výk. výměr" 77,64 | H158: 77.64 | AT158: VV | AU158: 2 | AV158: 2 | AW158: True | AX158: 1 | AY158: ROZPOCET
C159: 14 | D159: K | E159: 572141111 | F159: Vyrovnání povrchu dosavadních krytů s rozprostřením hmot a zhutněním asfaltovým betonem ACO (AB) tl. od 20 do 40 mm | G159: m2 | H159: 242.64 | J159: =ROUND(I159*H159,2) -> 0 | K159: CS ÚRS 2024 02 | N159: základní | P159: =O159*H159 -> 0 | Q159: 0.10434 | R159: =Q159*H159 -> 25.317058 | S159: 0 | T159: =S159*H159 -> 0 | AR159: 4 | AT159: K | AU159: 2 | AY159: ROZPOCET | BE159: =IF(N159="základní",J159,0) -> 0 | BF159: =IF(N159="snížená",J159,0) -> 0 | BG159: =IF(N159="zákl. přenesená",J159,0) -> 0 | BH159: =IF(N159="sníž. přenesená",J159,0) -> 0 | BI159: =IF(N159="nulová",J159,0) -> 0 | BJ159: 1 | BK159: =ROUND(I159*H159,2) -> 0 | BL159: 4 | BM159: 1434588519
D160: VV | F160: "pro vyrovnání na ploše povrch. úpravy vozovky, ACO 11+, prům. tl. 30 mm (0,295mm), v množství 5,36 m3, dle výk.výměr"242,64 | H160: 242.64 | AT160: VV | AU160: 2 | AV160: 2 | AW160: True | AX160: 1 | AY160: ROZPOCET
D161: VV | F161: Včetně spojovacího postřiku na vyfrézovaném povrchu PS-C v množství 0.5 kg/m2. | AT161: VV | AU161: 2 | AV161: 1 | AW161: True | AX161: 0 | AY161: ROZPOCET
C162: 15 | D162: K | E162: 572141112 | F162: Vyrovnání povrchu dosavadních krytů s rozprostřením hmot a zhutněním asfaltovým betonem ACO (AB) tl. přes 40 do 60 mm | G162: m2 | H162: 53 | J162: =ROUND(I162*H162,2) -> 0 | K162: CS ÚRS 2024 02 | N162: základní | P162: =O162*H162 -> 0 | Q162: 0.1562 | R162: =Q162*H162 -> 8.2786 | S162: 0 | T162: =S162*H162 -> 0 | AR162: 4 | AT162: K | AU162: 2 | AY162: ROZPOCET | BE162: =IF(N162="základní",J162,0) -> 0 | BF162: =IF(N162="snížená",J162,0) -> 0 | BG162: =IF(N162="zákl. přenesená",J162,0) -> 0 | BH162: =IF(N162="sníž. přenesená",J162,0) -> 0 | BI162: =IF(N162="nulová",J162,0) -> 0 | BJ162: 1 | BK162: =ROUND(I162*H162,2) -> 0 | BL162: 4 | BM162: 1403914084
D163: VV | F163: V místech příčného napojení na stáv.vozovku po rozebrání PM | AT163: VV | AU163: 2 | AV163: 1 | AW163: True | AX163: 0 | AY163: ROZPOCET
D164: VV | F164: "pro vyrovnání na ploše povrch.úpravy vozovky, ACO 11+, prům. tl. 60 mm, v množství 3,18 m3, dle výk.výměr" 3,18/0,06 | H164: 53 | AT164: VV | AU164: 2 | AV164: 2 | AW164: True | AX164: 1 | AY164: ROZPOCET
D165: VV | F165: Včetně spojovacího postřiku na vyfrézovaném povrchu PS-C v množství 0.5 kg/m2. | AT165: VV | AU165: 2 | AV165: 1 | AW165: True | AX165: 0 | AY165: ROZPOCET
C166: 16 | D166: K | E166: 573231107 | F166: Postřik spojovací PS bez posypu kamenivem ze silniční emulze, v množství 0,40 kg/m2 | G166: m2 | H166: 242.64 | J166: =ROUND(I166*H166,2) -> 0 | K166: CS ÚRS 2024 02 | N166: základní | P166: =O166*H166 -> 0 | Q166: 0 | R166: =Q166*H166 -> 0 | S166: 0 | T166: =S166*H166 -> 0 | AR166: 4 | AT166: K | AU166: 2 | AY166: ROZPOCET | BE166: =IF(N166="základní",J166,0) -> 0 | BF166: =IF(N166="snížená",J166,0) -> 0 | BG166: =IF(N166="zákl. přenesená",J166,0) -> 0 | BH166: =IF(N166="sníž. přenesená",J166,0) -> 0 | BI166: =IF(N166="nulová",J166,0) -> 0 | BJ166: 1 | BK166: =ROUND(I166*H166,2) -> 0 | BL166: 4 | BM166: -310488023
...
