Workbook
Name CelkemDPHVypocet: Stavba!$H$42
Name CenaCelkem: Stavba!$G$29
Name CenaCelkemBezDPH: Stavba!$G$28
Name CenaCelkemVypocet: Stavba!$I$42
Name cisloobjektu: Stavba!$D$3
Name CisloRozpoctu: '[1]Krycí list'!$C$2
Name CisloStavby: Stavba!$D$2
Name cislostavby: '[1]Krycí list'!$A$7
Name CisloStavebnihoRozpoctu: Stavba!$D$4
Name dadresa: Stavba!$D$12:$G$12
Name DIČ: Stavba!$I$12
Name dmisto: Stavba!$E$13:$G$13
Name DPHSni: Stavba!$G$24
Name DPHZakl: Stavba!$G$26
Name dpsc: Stavba!$D$13
Name IČO: Stavba!$I$11
Name Mena: Stavba!$J$29
Name MistoStavby: Stavba!$D$4
Name nazevobjektu: Stavba!$E$3
Name NazevRozpoctu: '[1]Krycí list'!$D$2
Name NazevStavby: Stavba!$E$2
Name nazevstavby: '[1]Krycí list'!$C$7
Name NazevStavebnihoRozpoctu: Stavba!$E$4
Name oadresa: Stavba!$D$6
Name Objednatel: Stavba!$D$5
Name Objekt: Stavba!$B$38
Name odic: Stavba!$I$6
Name oico: Stavba!$I$5
Name omisto: Stavba!$E$7
Name onazev: Stavba!$D$6
Name opsc: Stavba!$D$7
Name padresa: Stavba!$D$9
Name pdic: Stavba!$I$9
Name pico: Stavba!$I$8
Name pmisto: Stavba!$E$10
Name PocetMJ: #REF!
Name PoptavkaID: Stavba!$A$1
Name pPSC: Stavba!$D$10
Name Projektant: Stavba!$D$8
Name SazbaDPH1: Stavba!$E$23
Name SazbaDPH1: '[1]Krycí list'!$C$30
Name SazbaDPH2: Stavba!$E$25
Name SazbaDPH2: '[1]Krycí list'!$C$32
Name SloupecCC: #REF!
Name SloupecCisloPol: #REF!
Name SloupecJC: #REF!
Name SloupecMJ: #REF!
Name SloupecMnozstvi: #REF!
Name SloupecNazPol: #REF!
Name SloupecPC: #REF!
Name Vypracoval: Stavba!$D$14
Name ZakladDPHSni: Stavba!$G$23
Name ZakladDPHSniVypocet: Stavba!$F$42
Name ZakladDPHZakl: Stavba!$G$25
Name ZakladDPHZaklVypocet: Stavba!$G$42
Name ZaObjednatele: Stavba!$G$34
Name Zaokrouhleni: Stavba!$G$27
Name ZaZhotovitele: Stavba!$D$34
Name Zhotovitel: Stavba!$D$11:$G$11

Sheet Stavba
A1: #RTSROZP# | B1: Položkový rozpočet stavby
B2: Stavba: | E2: Oprava MK Stříbřec - Libořezy, lokalita 3
B3: Objekt: | E3: Oprava MK Stříbřec - Libořezy, lokalita 3
A4: 2836 | B4: Rozpočet: | E4: Oprava MK Stříbřec - Libořezy, lokalita 3
B5: Objednatel: | D5: Obec Stříbřec, Stříbřec 149 | H5: IČO: | I5: 00247529
D6: 149 | H6: DIČ: | I6: CZ00247529
D7: 37818 | E7: Stříbřec
B8: Projektant: | H8: IČO:
H9: DIČ:
B11: Zhotovitel: | H11: IČO:
H12: DIČ:
B14: Vypracoval:
B15: Rozpis ceny | I15: Celkem
A16: HSV | B16: HSV | I16: =SUMIF(F49:F54,A16,I49:I54)+SUMIF(F49:F54,"PSU",I49:I54) -> 0
A17: PSV | B17: PSV | I17: =SUMIF(F49:F54,A17,I49:I54) -> 0
A18: MON | B18: MON | I18: =SUMIF(F49:F54,A18,I49:I54) -> 0
A19: VN | B19: Vedlejší náklady | I19: =SUMIF(F49:F54,A19,I49:I54) -> 0
A20: ON | B20: Ostatní náklady | I20: =SUMIF(F49:F54,A20,I49:I54) -> 0
B21: Celkem | I21: =SUM(I16:J20) -> 0
B22: Rekapitulace daní
A23: =ZakladDPHSni*SazbaDPH1/100 -> 0 | B23: Základ pro sníženou DPH | E23: 15 | F23: % | G23: =ZakladDPHSniVypocet -> 0 | J23: =Mena -> CZK
A24: =(A23-INT(A23))*100 -> 0 | B24: Snížená DPH | E24: =SazbaDPH1 -> 15 | F24: % | G24: =A23 -> 0 | J24: =Mena -> CZK
A25: =ZakladDPHZakl*SazbaDPH2/100 -> 0 | B25: Základ pro základní DPH | E25: 21 | F25: % | G25: =ZakladDPHZaklVypocet -> 0 | J25: =Mena -> CZK
A26: =(A25-INT(A25))*100 -> 0 | B26: Základní DPH | E26: =SazbaDPH2 -> 21 | F26: % | G26: =A25 -> 0 | J26: =Mena -> CZK
A27: =ZakladDPHSni+DPHSni+ZakladDPHZakl+DPHZakl -> 0 | B27: Zaokrouhlení | G27: =CenaCelkem-(ZakladDPHSni+DPHSni+ZakladDPHZakl+DPHZakl) -> 0 | J27: =Mena -> CZK
B28: Cena celkem bez DPH | G28: =ZakladDPHSniVypocet+ZakladDPHZaklVypocet -> 0 | J28: =Mena -> CZK
A29: =(A27-INT(A27))*100 -> 0 | B29: Cena celkem s DPH | G29: =A27 -> 0 | J29: CZK
C32: v | F32: dne
D35: Za zhotovitele | H35: Za objednatele
B37: Rekapitulace dílčích částí
A38: #CASTI>> | B38: Číslo | C38: Název | F38: =B23 -> Základ pro sníženou DPH | G38: =B25 -> Základ pro základní DPH | H38: DPH celkem | I38: Cena celkem | J38: %
A39: 1 | B39: Stavba | F39: ='0001 0001 Pol'!AE44 -> 0 | G39: ='0001 0001 Pol'!AF44 -> 0 | H39: =(F39*SazbaDPH1/100)+(G39*SazbaDPH2/100) -> 0 | I39: =F39+G39+H39 -> 0 | J39: =IF(CenaCelkemVypocet=0,"",I39/CenaCelkemVypocet*100)
A40: 2 | B40: 0001 | C40: Oprava MK Stříbřec - Libořezy, lokalita 3 | F40: ='0001 0001 Pol'!AE44 -> 0 | G40: ='0001 0001 Pol'!AF44 -> 0 | H40: =(F40*SazbaDPH1/100)+(G40*SazbaDPH2/100) -> 0 | I40: =F40+G40+H40 -> 0 | J40: =IF(CenaCelkemVypocet=0,"",I40/CenaCelkemVypocet*100)
A41: 3 | B41: 0001 | C41: Oprava MK Stříbřec - Libořezy, lokalita 3 | F41: ='0001 0001 Pol'!AE44 -> 0 | G41: ='0001 0001 Pol'!AF44 -> 0 | H41: =(F41*SazbaDPH1/100)+(G41*SazbaDPH2/100) -> 0 | I41: =F41+G41+H41 -> 0 | J41: =IF(CenaCelkemVypocet=0,"",I41/CenaCelkemVypocet*100)
B42: Celkem za stavbu | F42: =SUMIF(A39:A41,"=1",F39:F41) -> 0 | G42: =SUMIF(A39:A41,"=1",G39:G41) -> 0 | H42: =SUMIF(A39:A41,"=1",H39:H41) -> 0 | I42: =SUMIF(A39:A41,"=1",I39:I41) -> 0 | J42: =SUMIF(A39:A41,"=1",J39:J41) -> 0
B46: Rekapitulace dílů
B48: Číslo | C48: Název | F48: Typ dílu | I48: Celkem | J48: %
B49: 1 | C49: Zemní práce | F49: HSV | I49: ='0001 0001 Pol'!G8 -> 0 | J49: =IF(I55=0,"",I49/I55*100)
B50: 5 | C50: Komunikace | F50: HSV | I50: ='0001 0001 Pol'!G21 -> 0 | J50: =IF(I55=0,"",I50/I55*100)
B51: 91 | C51: Doplňující práce na komunikaci | F51: HSV | I51: ='0001 0001 Pol'!G31 -> 0 | J51: =IF(I55=0,"",I51/I55*100)
B52: 99 | C52: Staveništní přesun hmot | F52: HSV | I52: ='0001 0001 Pol'!G35 -> 0 | J52: =IF(I55=0,"",I52/I55*100)
B53: VN | C53: Vedlejší náklady | F53: VN | I53: ='0001 0001 Pol'!G37 -> 0 | J53: =IF(I55=0,"",I53/I55*100)
B54: ON | C54: Ostatní náklady | F54: ON | I54: ='0001 0001 Pol'!G40 -> 0 | J54: =IF(I55=0,"",I54/I55*100)
B55: Cena celkem | I55: =SUM(I49:I54) -> 0 | J55: =SUM(J49:J54) -> 0

Sheet VzorPolozky
A1: Položkový rozpočet
A2: S:
A3: O:
A4: R:

Sheet 0001 0001 Pol
A1: Položkový rozpočet | AG1: #TypZaznamu#
A2: S: | C2: Oprava MK Stříbřec - Libořezy, lokalita 3 | AG2: STA
A3: O: | C3: Oprava MK Stříbřec - Libořezy, lokalita 3 | AC3: STA | AG3: OBJ
A4: R: | C4: Oprava MK Stříbřec - Libořezy, lokalita 3 | AG4: ROZ
A6: P.č. | B6: Číslo položky | C6: Název položky | D6: MJ | E6: Množství | F6: Cena / MJ | G6: Celkem | H6: Dodávka | I6: Dodávka celk. | J6: Montáž | K6: Montáž celk. | L6: DPH | M6: Cena s DPH | N6: Hmotnost / MJ | O6: Hmotnost celk.(t) | P6: Dem. hmotnost / MJ | Q6: Dem. hmotnost celk.(t) | R6: Ceník | S6: Cen. soustava / platnost | T6: Cenová úroveň | U6: Nhod / MJ | V6: Nhod celk. | W6: Dodavatel | X6: Typ položky | Y6: Stav položky
A8: Díl: | B8: 1 | C8: Zemní práce | G8: =SUMIF(AG9:AG20,"<>NOR",G9:G20) -> 0 | I8: =SUM(I9:I20) -> 0 | K8: =SUM(K9:K20) -> 0 | M8: =SUM(M9:M20) -> 0 | O8: =SUM(O9:O20) -> 0 | Q8: =SUM(Q9:Q20) -> 0 | V8: =SUM(V9:V20) -> 95.92 | AG8: DIL
A9: 1 | B9: 122301101 | C9: Odkopávky nezapažené v hor. 4 do 100 m3 | D9: m3 | E9: 52.88 | G9: =ROUND(E9*F9,2) -> 0 | I9: =ROUND(E9*H9,2) -> 0 | K9: =ROUND(E9*J9,2) -> 0 | L9: 21 | M9: =G9*(1+L9/100) -> 0 | N9: 0 | O9: =ROUND(E9*N9,2) -> 0 | P9: 0 | Q9: =ROUND(E9*P9,2) -> 0 | S9: RTS 23/ II | T9: RTS 23/ II | U9: 0.626 | V9: =ROUND(E9*U9,2) -> 33.1 | X9: Práce | Y9: Běžná | AG9: POL1_
C10: trasa : 62*3,2*0,2 | E10: 39.68 | AG10: VV | AH10: 0
C11: napojení na hl. silnice : (10+3,2)/2*10*0,2 | E11: 13.2 | AG11: VV | AH11: 0
A12: 2 | B12: 122301109 | C12: Příplatek za lepivost - odkopávky v hor. 4 | D12: m3 | E12: 52.88 | G12: =ROUND(E12*F12,2) -> 0 | I12: =ROUND(E12*H12,2) -> 0 | K12: =ROUND(E12*J12,2) -> 0 | L12: 21 | M12: =G12*(1+L12/100) -> 0 | N12: 0 | O12: =ROUND(E12*N12,2) -> 0 | P12: 0 | Q12: =ROUND(E12*P12,2) -> 0 | S12: RTS 23/ II | T12: RTS 23/ II | U12: 0.081 | V12: =ROUND(E12*U12,2) -> 4.28 | X12: Práce | Y12: Běžná | AG12: POL1_
A13: 3 | B13: 161101101 | C13: Svislé přemístění výkopku z hor.1-4 do 2,5 m | D13: m3 | E13: 52.88 | G13: =ROUND(E13*F13,2) -> 0 | I13: =ROUND(E13*H13,2) -> 0 | K13: =ROUND(E13*J13,2) -> 0 | L13: 21 | M13: =G13*(1+L13/100) -> 0 | N13: 0 | O13: =ROUND(E13*N13,2) -> 0 | P13: 0 | Q13: =ROUND(E13*P13,2) -> 0 | S13: RTS 23/ II | T13: RTS 23/ II | U13: 0.345 | V13: =ROUND(E13*U13,2) -> 18.24 | X13: Práce | Y13: Běžná | AG13: POL1_
A14: 4 | B14: 162601102 | C14: Vodorovné přemístění výkopku z hor.1-4 do 5000 m | D14: m3 | E14: 52.88 | G14: =ROUND(E14*F14,2) -> 0 | I14: =ROUND(E14*H14,2) -> 0 | K14: =ROUND(E14*J14,2) -> 0 | L14: 21 | M14: =G14*(1+L14/100) -> 0 | N14: 0 | O14: =ROUND(E14*N14,2) -> 0 | P14: 0 | Q14: =ROUND(E14*P14,2) -> 0 | S14: RTS 23/ II | T14: RTS 23/ II | U14: 0.011 | V14: =ROUND(E14*U14,2) -> 0.58 | X14: Práce | Y14: Běžná | AG14: POL1_
A15: 5 | B15: 167101101 | C15: Nakládání výkopku z hor. 1 ÷ 4 v množství do 100 m3 | D15: m3 | E15: 52.88 | G15: =ROUND(E15*F15,2) -> 0 | I15: =ROUND(E15*H15,2) -> 0 | K15: =ROUND(E15*J15,2) -> 0 | L15: 21 | M15: =G15*(1+L15/100) -> 0 | N15: 0 | O15: =ROUND(E15*N15,2) -> 0 | P15: 0 | Q15: =ROUND(E15*P15,2) -> 0 | S15: RTS 23/ II | T15: RTS 23/ II | U15: 0.652 | V15: =ROUND(E15*U15,2) -> 34.48 | X15: Práce | Y15: Běžná | AG15: POL1_
C16: 52,88 | E16: 52.88 | AG16: VV | AH16: 0
A17: 6 | B17: 171201201 | C17: Uložení sypaniny na skl.-sypanina na výšku přes 2m | D17: m3 | E17: 52.88 | G17: =ROUND(E17*F17,2) -> 0 | I17: =ROUND(E17*H17,2) -> 0 | K17: =ROUND(E17*J17,2) -> 0 | L17: 21 | M17: =G17*(1+L17/100) -> 0 | N17: 0 | O17: =ROUND(E17*N17,2) -> 0 | P17: 0 | Q17: =ROUND(E17*P17,2) -> 0 | S17: RTS 23/ II | T17: RTS 23/ II | U17: 0.009 | V17: =ROUND(E17*U17,2) -> 0.48 | X17: Práce | Y17: Běžná | AG17: POL1_
A18: 7 | B18: 181101102 | C18: Úprava pláně v zářezech v hor. 1-4, se zhutněním | D18: m2 | E18: 264.4 | G18: =ROUND(E18*F18,2) -> 0 | I18: =ROUND(E18*H18,2) -> 0 | K18: =ROUND(E18*J18,2) -> 0 | L18: 21 | M18: =G18*(1+L18/100) -> 0 | N18: 0 | O18: =ROUND(E18*N18,2) -> 0 | P18: 0 | Q18: =ROUND(E18*P18,2) -> 0 | S18: RTS 23/ II | T18: RTS 23/ II | U18: 0.018 | V18: =ROUND(E18*U18,2) -> 4.76 | X18: Práce | Y18: Běžná | AG18: POL1_
C19: trasa : 62*3,2 | E19: 198.4 | AG19: VV | AH19: 0
C20: napojení na hl. silnici : (10+3,2)*10/2 | E20: 66 | AG20: VV | AH20: 0
A21: Díl: | B21: 5 | C21: Komunikace | G21: =SUMIF(AG22:AG30,"<>NOR",G22:G30) -> 0 | I21: =SUM(I22:I30) -> 0 | K21: =SUM(K22:K30) -> 0 | M21: =SUM(M22:M30) -> 0 | O21: =SUM(O22:O30) -> 155.63 | Q21: =SUM(Q22:Q30) -> 0 | V21: =SUM(V22:V30) -> 29.44 | AG21: DIL
A22: 8 | B22: 564831111 | C22: Podklad ze štěrkodrti po zhutnění tloušťky 10 cm | D22: m2 | E22: 264.4 | G22: =ROUND(E22*F22,2) -> 0 | I22: =ROUND(E22*H22,2) -> 0 | K22: =ROUND(E22*J22,2) -> 0 | L22: 21 | M22: =G22*(1+L22/100) -> 0 | N22: 0.288 | O22: =ROUND(E22*N22,2) -> 76.15 | P22: 0 | Q22: =ROUND(E22*P22,2) -> 0 | S22: RTS 23/ II | T22: RTS 23/ II | U22: 0.023 | V22: =ROUND(E22*U22,2) -> 6.08 | X22: Práce | Y22: Běžná | AG22: POL1_
A23: 9 | B23: 565141111 | C23: Podklad z obal kam.ACP 16+,ACP 22+,do 3 m,tl. 6 cm | D23: m2 | E23: 251 | G23: =ROUND(E23*F23,2) -> 0 | I23: =ROUND(E23*H23,2) -> 0 | K23: =ROUND(E23*J23,2) -> 0 | L23: 21 | M23: =G23*(1+L23/100) -> 0 | N23: 0.15826 | O23: =ROUND(E23*N23,2) -> 39.72 | P23: 0 | Q23: =ROUND(E23*P23,2) -> 0 | S23: RTS 23/ II | T23: RTS 23/ II | U23: 0.056 | V23: =ROUND(E23*U23,2) -> 14.06 | X23: Práce | Y23: Běžná | AG23: POL1_
C24: trasa : 62*3,0 | E24: 186 | AG24: VV | AH24: 0
C25: napojení na hl. silnice : (10+3)/2*10 | E25: 65 | AG25: VV | AH25: 0
A26: 10 | B26: 569831111 | C26: Zpevnění krajnic štěrkodrtí tloušťky 10 cm | D26: m2 | E26: 72 | G26: =ROUND(E26*F26,2) -> 0 | I26: =ROUND(E26*H26,2) -> 0 | K26: =ROUND(E26*J26,2) -> 0 | L26: 21 | M26: =G26*(1+L26/100) -> 0 | N26: 0.18776 | O26: =ROUND(E26*N26,2) -> 13.52 | P26: 0 | Q26: =ROUND(E26*P26,2) -> 0 | S26: RTS 23/ II | T26: RTS 23/ II | U26: 0.052 | V26: =ROUND(E26*U26,2) -> 3.74 | X26: Práce | Y26: Běžná | AG26: POL1_
C27: trasa : 72*0,5*2 | E27: 72 | AG27: VV | AH27: 0
A28: 11 | B28: 573231127 | C28: Postřik spojovací z KAE, množství zbytkového asfaltu 0,7 kg/m2 | D28: m2 | E28: 251 | G28: =ROUND(E28*F28,2) -> 0 | I28: =ROUND(E28*H28,2) -> 0 | K28: =ROUND(E28*J28,2) -> 0 | L28: 21 | M28: =G28*(1+L28/100) -> 0 | N28: 0.0007 | O28: =ROUND(E28*N28,2) -> 0.18 | P28: 0 | Q28: =ROUND(E28*P28,2) -> 0 | S28: RTS 23/ II | T28: RTS 23/ II | U28: 0.002 | V28: =ROUND(E28*U28,2) -> 0.5 | X28: Práce | Y28: Běžná | AG28: POL1_
A29: 12 | B29: 577132111 | C29: Beton asfalt. ACO 11+ obrusný, š.nad 3 m, tl. 4 cm | D29: m2 | E29: 251 | G29: =ROUND(E29*F29,2) -> 0 | I29: =ROUND(E29*H29,2) -> 0 | K29: =ROUND(E29*J29,2) -> 0 | L29: 21 | M29: =G29*(1+L29/100) -> 0 | N29: 0.10373 | O29: =ROUND(E29*N29,2) -> 26.04 | P29: 0 | Q29: =ROUND(E29*P29,2) -> 0 | S29: RTS 23/ II | T29: RTS 23/ II | U29: 0.015 | V29: =ROUND(E29*U29,2) -> 3.77 | X29: Práce | Y29: Běžná | AG29: POL1_
A30: 13 | B30: 599142111 | C30: Úprava zálivky dil.spár hloubky do 4 cm š. do 4 cm | D30: m | E30: 10 | G30: =ROUND(E30*F30,2) -> 0 | I30: =ROUND(E30*H30,2) -> 0 | K30: =ROUND(E30*J30,2) -> 0 | L30: 21 | M30: =G30*(1+L30/100) -> 0 | N30: 0.00224 | O30: =ROUND(E30*N30,2) -> 0.02 | P30: 0 | Q30: =ROUND(E30*P30,2) -> 0 | S30: RTS 23/ II | T30: RTS 23/ II | U30: 0.129 | V30: =ROUND(E30*U30,2) -> 1.29 | X30: Práce | Y30: Běžná | AG30: POL1_
A31: Díl: | B31: 91 | C31: Doplňující práce na komunikaci | G31: =SUMIF(AG32:AG34,"<>NOR",G32:G34) -> 0 | I31: =SUM(I32:I34) -> 0 | K31: =SUM(K32:K34) -> 0 | M31: =SUM(M32:M34) -> 0 | O31: =SUM(O32:O34) -> 0 | Q31: =SUM(Q32:Q34) -> 0 | V31: =SUM(V32:V34) -> 1.48 | AG31: DIL
A32: 14 | B32: 919731122 | C32: Zarovnání styčné plochy živičné tl. do 10 cm | D32: m | E32: 10 | G32: =ROUND(E32*F32,2) -> 0 | I32: =ROUND(E32*H32,2) -> 0 | K32: =ROUND(E32*J32,2) -> 0 | L32: 21 | M32: =G32*(1+L32/100) -> 0 | N32: 0 | O32: =ROUND(E32*N32,2) -> 0 | P32: 0 | Q32: =ROUND(E32*P32,2) -> 0 | S32: RTS 23/ II | T32: RTS 23/ II | U32: 0.093 | V32: =ROUND(E32*U32,2) -> 0.93 | X32: Práce | Y32: Běžná | AG32: POL1_
A33: 15 | B33: 919735113 | C33: Řezání stávajícího živičného krytu tl. 10 - 15 cm | D33: m | E33: 10 | G33: =ROUND(E33*F33,2) -> 0 | I33: =ROUND(E33*H33,2) -> 0 | K33: =ROUND(E33*J33,2) -> 0 | L33: 21 | M33: =G33*(1+L33/100) -> 0 | N33: 0 | O33: =ROUND(E33*N33,2) -> 0 | P33: 0 | Q33: =ROUND(E33*P33,2) -> 0 | S33: RTS 23/ II | T33: RTS 23/ II | U33: 0.055 | V33: =ROUND(E33*U33,2) -> 0.55 | X33: Práce | Y33: Běžná | AG33: POL1_
C34: napjení na hl. silnici : 10 | E34: 10 | AG34: VV | AH34: 0
A35: Díl: | B35: 99 | C35: Staveništní přesun hmot | G35: =SUMIF(AG36:AG36,"<>NOR",G36:G36) -> 0 | I35: =SUM(I36:I36) -> 0 | K35: =SUM(K36:K36) -> 0 | M35: =SUM(M36:M36) -> 0 | O35: =SUM(O36:O36) -> 0 | Q35: =SUM(Q36:Q36) -> 0 | V35: =SUM(V36:V36) -> 2.49 | AG35: DIL
A36: 16 | B36: 998225111 | C36: Přesun hmot, pozemní komunikace, kryt živičný | D36: t | E36: 155.62351 | G36: =ROUND(E36*F36,2) -> 0 | I36: =ROUND(E36*H36,2) -> 0 | K36: =ROUND(E36*J36,2) -> 0 | L36: 21 | M36: =G36*(1+L36/100) -> 0 | N36: 0 | O36: =ROUND(E36*N36,2) -> 0 | P36: 0 | Q36: =ROUND(E36*P36,2) -> 0 | S36: RTS 23/ II | T36: RTS 23/ II | U36: 0.016 | V36: =ROUND(E36*U36,2) -> 2.49 | X36: Přesun hmot | Y36: Běžná | AG36: POL7_
A37: Díl: | B37: VN | C37: Vedlejší náklady | G37: =SUMIF(AG38:AG39,"<>NOR",G38:G39) -> 0 | I37: =SUM(I38:I39) -> 0 | K37: =SUM(K38:K39) -> 0 | M37: =SUM(M38:M39) -> 0 | O37: =SUM(O38:O39) -> 0 | Q37: =SUM(Q38:Q39) -> 0 | V37: =SUM(V38:V39) -> 0 | AG37: DIL
A38: 17 | B38: 005111020R | C38: Vytyčení stavby | D38: Soubor | E38: 1 | G38: =ROUND(E38*F38,2) -> 0 | I38: =ROUND(E38*H38,2) -> 0 | K38: =ROUND(E38*J38,2) -> 0 | L38: 21 | M38: =G38*(1+L38/100) -> 0 | N38: 0 | O38: =ROUND(E38*N38,2) -> 0 | P38: 0 | Q38: =ROUND(E38*P38,2) -> 0 | S38: RTS 23/ II | T38: Indiv | U38: 0 | V38: =ROUND(E38*U38,2) -> 0 | X38: VRN | Y38: Běžná | AG38: POL99_8
A39: 18 | B39: 005111021R | C39: Vytyčení inženýrských sítí | D39: Soubor | E39: 1 | G39: =ROUND(E39*F39,2) -> 0 | I39: =ROUND(E39*H39,2) -> 0 | K39: =ROUND(E39*J39,2) -> 0 | L39: 21 | M39: =G39*(1+L39/100) -> 0 | N39: 0 | O39: =ROUND(E39*N39,2) -> 0 | P39: 0 | Q39: =ROUND(E39*P39,2) -> 0 | S39: RTS 23/ II | T39: Indiv | U39: 0 | V39: =ROUND(E39*U39,2) -> 0 | X39: VRN | Y39: Běžná | AG39: POL99_8
A40: Díl: | B40: ON | C40: Ostatní náklady | G40: =SUMIF(AG41:AG42,"<>NOR",G41:G42) -> 0 | I40: =SUM(I41:I42) -> 0 | K40: =SUM(K41:K42) -> 0 | M40: =SUM(M41:M42) -> 0 | O40: =SUM(O41:O42) -> 0 | Q40: =SUM(Q41:Q42) -> 0 | V40: =SUM(V41:V42) -> 0 | AG40: DIL
A41: 19 | B41: 005211030R | C41: Dočasná dopravní opatření | D41: Soubor | E41: 1 | G41: =ROUND(E41*F41,2) -> 0 | I41: =ROUND(E41*H41,2) -> 0 | K41: =ROUND(E41*J41,2) -> 0 | L41: 21 | M41: =G41*(1+L41/100) -> 0 | N41: 0 | O41: =ROUND(E41*N41,2) -> 0 | P41: 0 | Q41: =ROUND(E41*P41,2) -> 0 | S41: RTS 23/ II | T41: Indiv | U41: 0 | V41: =ROUND(E41*U41,2) -> 0 | X41: VRN | Y41: Běžná | AG41: POL99_8
A42: 20 | B42: 005241020R | C42: Geodetické zaměření skutečného provedení | D42: Soubor | E42: 1 | G42: =ROUND(E42*F42,2) -> 0 | I42: =ROUND(E42*H42,2) -> 0 | K42: =ROUND(E42*J42,2) -> 0 | L42: 21 | M42: =G42*(1+L42/100) -> 0 | N42: 0 | O42: =ROUND(E42*N42,2) -> 0 | P42: 0 | Q42: =ROUND(E42*P42,2) -> 0 | S42: RTS 23/ II | T42: Indiv | U42: 0 | V42: =ROUND(E42*U42,2) -> 0 | X42: VRN | Y42: Běžná | AG42: POL99_8
AE43: 15 | AF43: 21 | AG43: DPH
B44: Celkem | G44: =G8+G21+G31+G35+G37+G40 -> 0 | AE44: =SUMIF(L7:L42,AE43,G7:G42) -> 0 | AF44: =SUMIF(L7:L42,AF43,G7:G42) -> 0 | AG44: SUM
A47: Poznámky uchazeče k zadání
AG48: POPUZIV
AG54: END
